BEGIN:VCALENDAR
VERSION:2.0
PRODID:-//Kochwerkstatt Ruhrgebiet - ECPv6.15.20//NONSGML v1.0//EN
CALSCALE:GREGORIAN
METHOD:PUBLISH
X-WR-CALNAME:Kochwerkstatt Ruhrgebiet
X-ORIGINAL-URL:https://kochwerkstatt-ruhrgebiet.de
X-WR-CALDESC:Veranstaltungen für Kochwerkstatt Ruhrgebiet
REFRESH-INTERVAL;VALUE=DURATION:PT1H
X-Robots-Tag:noindex
X-PUBLISHED-TTL:PT1H
BEGIN:VTIMEZONE
TZID:Europe/Berlin
BEGIN:DAYLIGHT
TZOFFSETFROM:+0100
TZOFFSETTO:+0200
TZNAME:CEST
DTSTART:20250330T010000
END:DAYLIGHT
BEGIN:STANDARD
TZOFFSETFROM:+0200
TZOFFSETTO:+0100
TZNAME:CET
DTSTART:20251026T010000
END:STANDARD
BEGIN:DAYLIGHT
TZOFFSETFROM:+0100
TZOFFSETTO:+0200
TZNAME:CEST
DTSTART:20260329T010000
END:DAYLIGHT
BEGIN:STANDARD
TZOFFSETFROM:+0200
TZOFFSETTO:+0100
TZNAME:CET
DTSTART:20261025T010000
END:STANDARD
BEGIN:DAYLIGHT
TZOFFSETFROM:+0100
TZOFFSETTO:+0200
TZNAME:CEST
DTSTART:20270328T010000
END:DAYLIGHT
BEGIN:STANDARD
TZOFFSETFROM:+0200
TZOFFSETTO:+0100
TZNAME:CET
DTSTART:20271031T010000
END:STANDARD
END:VTIMEZONE
BEGIN:VEVENT
DTSTART;TZID=Europe/Berlin:20260424T170000
DTEND;TZID=Europe/Berlin:20260424T210000
DTSTAMP:20260424T013324
CREATED:20251205T101409Z
LAST-MODIFIED:20251221T131622Z
UID:31704-1777050000-1777064400@kochwerkstatt-ruhrgebiet.de
SUMMARY:Siziliens Streetfood-Klassiker - Antipasti\, Arancini & Co
DESCRIPTION:Siziliens Streetfood-Klassiker – Antipasti\, Arancini & Co\nDie Küche Siziliens ist geprägt durch ihre Vergangenheit. Mauren\, Araber\, Griechen und Normannen haben alle ihre Spuren in der kulinarischen Welt Siziliens hinterlassen. \nAuf den Märkten Siziliens sind traditionelle Streetfood Köstlichkeiten allgegenwärtig. Wir bereiten diese gemeinsam zu! \nDie Antipasti sind unglaublich vielfältig:\nmit Auberginen\, frischem Fisch\, Fleisch\, saisonalem Gemüse\, ob warm oder kalt serviert\,\nob für festliche Anlässe oder Buffets – wir bereiten gemeinsam einige der schönsten sizilianischen Vorspeisen zu. \nDie Köstlichkeiten für Zwischendurch\, die sogenannten Arancini\, die sizilianischen Reisbällchen sind auf Sizilien in verschiedenen Variationen und Formen zu finden. \nAuch Panelle\, frittierte kleine Fladen aus Kichererbsenmehl\, zählen wohl zu den Streetfood-Klassikern schlechthin. \nWer landestypische Rezepte für köstliche Antipasti und unwiderstehliche Arancini sucht\, die auch Euren Gäste gefallen\, ist hier richtig. \nZur Begrüßung stoßen wir zunächst mit einem Glas Winzersekt an. \nPassend zum Menü haben wir ausgewählte Rot- und Weißweine aus Sizilien zusammengestellt. \nWasser\, alkoholfreie Getränke und zum Abschluss einen Espresso aus Palermo sind im Preis enthalten. \nKochschürzen werden für den Kurs gestellt. \n  \n \nGruppe mit ca. 12 – 14 Personen\, mit Anja Chiaradia
URL:https://kochwerkstatt-ruhrgebiet.de/kochkurs/siziliens-streetfood-klassiker-antipasti-arancini-co-24-04-2026/
LOCATION:Kochwerkstatt Ruhrgebiet\, Werner-Heisenberg-Str. 12-14\, Herten\, 45699\, Deutschland
CATEGORIES:La cucina siciliana
ATTACH;FMTTYPE=image/png:https://kochwerkstatt-ruhrgebiet.de/cms/wp-content/uploads/2025/01/ausgebucht-1000x667-1.png
ORGANIZER;CN="Kochwerkstatt Ruhrgebiet":MAILTO:info@kochwerkstatt-ruhrgebiet.de
END:VEVENT
END:VCALENDAR